BEGIN:VCALENDAR
BEGIN:VEVENT
SUMMARY:Funeral notice for SIMPSON\, Valentine John
DTSTART:20260416T000000
DTEND:20260417T000000
DTSTAMP:20260423T161148Z
UID:6353215
DESCRIPTION:For the Funeral time and location details\, please view the no
 tice on the My Tributes site. (https://www.countrynews.com.au/tributes/not
 ice/funeral-notices/simpson-valentine-john/6353215/)
END:VEVENT
END:VCALENDAR
