BEGIN:VCALENDAR
BEGIN:VEVENT
SUMMARY:Funeral notice for MALONEY\, Gabrielle Therese
DTSTART:20260415T000000
DTEND:20260416T000000
DTSTAMP:20260420T145427Z
UID:6353565
DESCRIPTION:For the Funeral time and location details\, please view the no
 tice on the My Tributes site. (https://www.countrynews.com.au/tributes/not
 ice/funeral-notices/maloney-gabrielle-therese/6353565/)
END:VEVENT
END:VCALENDAR
