BEGIN:VCALENDAR
BEGIN:VEVENT
SUMMARY:Funeral notice for WRIGHT\, Shirley
DTSTART:20260414T000000
DTEND:20260415T000000
DTSTAMP:20260420T113430Z
UID:6353663
DESCRIPTION:For the Funeral time and location details\, please view the no
 tice on the My Tributes site. (https://www.countrynews.com.au/tributes/not
 ice/funeral-notices/wright-shirley/6353663/)
END:VEVENT
END:VCALENDAR
