BEGIN:VCALENDAR
BEGIN:VEVENT
SUMMARY:Funeral notice for MC LENNAN\, Kay Finlay
DTSTART:20260421T000000
DTEND:20260422T000000
DTSTAMP:20260420T085202Z
UID:6353990
DESCRIPTION:For the Funeral time and location details\, please view the no
 tice on the My Tributes site. (https://www.countrynews.com.au/tributes/not
 ice/funeral-notices/mc-lennan-kay-finlay/6353990/)
END:VEVENT
END:VCALENDAR
