BEGIN:VCALENDAR
BEGIN:VEVENT
SUMMARY:Funeral notice for QUIRK\, Thomas William
DTSTART:20260420T000000
DTEND:20260421T000000
DTSTAMP:20260423T002238Z
UID:6354088
DESCRIPTION:For the Funeral time and location details\, please view the no
 tice on the My Tributes site. (https://www.countrynews.com.au/tributes/not
 ice/funeral-notices/quirk-thomas-william/6354088/)
END:VEVENT
END:VCALENDAR
