BEGIN:VCALENDAR
BEGIN:VEVENT
SUMMARY:Funeral notice for AH SHAY (NEE HAMMETT)\, Beryl Lavinia
DTSTART:20260429T000000
DTEND:20260430T000000
DTSTAMP:20260421T082011Z
UID:6354422
DESCRIPTION:For the Funeral time and location details\, please view the no
 tice on the My Tributes site. (https://www.countrynews.com.au/tributes/not
 ice/funeral-notices/ah-shay-nee-hammett-beryl-lavinia/6354422/)
END:VEVENT
END:VCALENDAR
