BEGIN:VCALENDAR
BEGIN:VEVENT
SUMMARY:Funeral notice for WALTON\, Gary John
DTSTART:20260422T000000
DTEND:20260423T000000
DTSTAMP:20260420T211351Z
UID:6354451
DESCRIPTION:For the Funeral time and location details\, please view the no
 tice on the My Tributes site. (https://www.countrynews.com.au/tributes/not
 ice/funeral-notices/walton-gary-john/6354451/)
END:VEVENT
END:VCALENDAR
