BEGIN:VCALENDAR
BEGIN:VEVENT
SUMMARY:Funeral notice for KERSLAKE\, Martha Elizabeth
DTSTART:20260424T000000
DTEND:20260425T000000
DTSTAMP:20260421T014500Z
UID:6354515
DESCRIPTION:For the Funeral time and location details\, please view the no
 tice on the My Tributes site. (https://www.countrynews.com.au/tributes/not
 ice/funeral-notices/kerslake-martha-elizabeth/6354515/)
END:VEVENT
END:VCALENDAR
