BEGIN:VCALENDAR
BEGIN:VEVENT
SUMMARY:Funeral notice for BARBA\, Luigi Gino
DTSTART:20260428T000000
DTEND:20260429T000000
DTSTAMP:20260426T061924Z
UID:6354884
DESCRIPTION:For the Funeral time and location details\, please view the no
 tice on the My Tributes site. (https://www.countrynews.com.au/tributes/not
 ice/funeral-notices/barba-luigi-gino/6354884/)
END:VEVENT
END:VCALENDAR
