BEGIN:VCALENDAR
BEGIN:VEVENT
SUMMARY:Funeral notice for TITHERLEY\, Martin Harold
DTSTART:20260428T000000
DTEND:20260429T000000
DTSTAMP:20260423T011213Z
UID:6355253
DESCRIPTION:For the Funeral time and location details\, please view the no
 tice on the My Tributes site. (https://www.countrynews.com.au/tributes/not
 ice/funeral-notices/titherley-martin-harold/6355253/)
END:VEVENT
END:VCALENDAR
